BEGIN:VCALENDAR
VERSION:2.0
PRODID:-//AS Judo Lorrez le Bocage - ECPv6.15.20//NONSGML v1.0//EN
CALSCALE:GREGORIAN
METHOD:PUBLISH
X-WR-CALNAME:AS Judo Lorrez le Bocage
X-ORIGINAL-URL:https://www.judo-lorrez.fr
X-WR-CALDESC:Évènements pour AS Judo Lorrez le Bocage
REFRESH-INTERVAL;VALUE=DURATION:PT1H
X-Robots-Tag:noindex
X-PUBLISHED-TTL:PT1H
BEGIN:VTIMEZONE
TZID:UTC
BEGIN:STANDARD
TZOFFSETFROM:+0000
TZOFFSETTO:+0000
TZNAME:UTC
DTSTART:20230101T000000
END:STANDARD
END:VTIMEZONE
BEGIN:VEVENT
DTSTART;TZID=UTC:20240911T170000
DTEND;TZID=UTC:20240911T203000
DTSTAMP:20260423T122924
CREATED:20240901T121852Z
LAST-MODIFIED:20240908T120258Z
UID:2377-1726074000-1726086600@www.judo-lorrez.fr
SUMMARY:Inscriptions Judo Lorrez
DESCRIPTION:Journée des inscriptions au judo de Lorrez \nPrise de contact et reprise
URL:https://www.judo-lorrez.fr/evenement/inscriptions-judo-lorrez/
LOCATION:Dojo Lorrez le Bocage\, 23\, rue de la TOUR\, LORREZ LE BOCAGE\, Seine et Marne\, 77710\, France
ATTACH;FMTTYPE=image/jpeg:https://www.judo-lorrez.fr/wp-content/uploads/2024/08/Dojo-1.jpg
END:VEVENT
END:VCALENDAR